BEGIN:VCALENDAR
VERSION:2.0
PRODID:-//Fountain Blues Festival - ECPv6.15.20//NONSGML v1.0//EN
CALSCALE:GREGORIAN
METHOD:PUBLISH
X-WR-CALNAME:Fountain Blues Festival
X-ORIGINAL-URL:https://fountainblues.com
X-WR-CALDESC:Events for Fountain Blues Festival
REFRESH-INTERVAL;VALUE=DURATION:PT1H
X-Robots-Tag:noindex
X-PUBLISHED-TTL:PT1H
BEGIN:VTIMEZONE
TZID:America/Los_Angeles
BEGIN:DAYLIGHT
TZOFFSETFROM:-0800
TZOFFSETTO:-0700
TZNAME:PDT
DTSTART:20240310T100000
END:DAYLIGHT
BEGIN:STANDARD
TZOFFSETFROM:-0700
TZOFFSETTO:-0800
TZNAME:PST
DTSTART:20241103T090000
END:STANDARD
BEGIN:DAYLIGHT
TZOFFSETFROM:-0800
TZOFFSETTO:-0700
TZNAME:PDT
DTSTART:20250309T100000
END:DAYLIGHT
BEGIN:STANDARD
TZOFFSETFROM:-0700
TZOFFSETTO:-0800
TZNAME:PST
DTSTART:20251102T090000
END:STANDARD
BEGIN:DAYLIGHT
TZOFFSETFROM:-0800
TZOFFSETTO:-0700
TZNAME:PDT
DTSTART:20260308T100000
END:DAYLIGHT
BEGIN:STANDARD
TZOFFSETFROM:-0700
TZOFFSETTO:-0800
TZNAME:PST
DTSTART:20261101T090000
END:STANDARD
END:VTIMEZONE
BEGIN:VEVENT
DTSTART;TZID=America/Los_Angeles:20250330T120000
DTEND;TZID=America/Los_Angeles:20250330T150000
DTSTAMP:20260422T064005
CREATED:20250315T234029Z
LAST-MODIFIED:20250327T165340Z
UID:10000353-1743336000-1743346800@fountainblues.com
SUMMARY:Grateful Dead Day w/ Bone Lab & Thierry Zydeco
DESCRIPTION:12pm – 3pm: Grateful Dead Sunday w/ Bone Lab – The Bone Lab brings the spirit of the Grateful Dead to life with soulful jams\, psychedelic improvisation\, and a deep love for the music. With rich harmonies\, tight rhythms\, and mesmerizing solos\, they capture the essence of the Dead’s legendary sound\, delivering an unforgettable experience for Deadheads and new fans alike. \n4pm – 7pm: Thierry Zydeco –Thierry Zydeco is a dynamic and energetic musician known for bringing the infectious rhythms of zydeco music to life. With deep roots in Louisiana’s rich musical traditions\, Thierry blends the soulful sounds of accordion\, washboard\, and driving beats to create a lively\, dance-inducing experience. His performances capture the spirit of Creole culture\, fusing blues\, R&B\, and Cajun influences into a unique and electrifying sound. Whether playing at festivals\, dance halls\, or intimate venues\, Thierry Zydeco delivers an unforgettable performance that keeps audiences moving and celebrates the heart of Louisiana’s musical heritage.
URL:https://fountainblues.com/event/grateful-dead-day-w-bone-lab-thierry-zydeco/
LOCATION:Poor House Bistro\, 317 W. St John St\, San Jose\, CA\, 95110
CATEGORIES:Poor House
ATTACH;FMTTYPE=image/jpeg:https://fountainblues.com/wp-content/uploads/2025/03/4.jpg
END:VEVENT
END:VCALENDAR