BEGIN:VCALENDAR
VERSION:2.0
PRODID:-//Fountain Blues Festival - ECPv6.15.20//NONSGML v1.0//EN
CALSCALE:GREGORIAN
METHOD:PUBLISH
X-WR-CALNAME:Fountain Blues Festival
X-ORIGINAL-URL:https://fountainblues.com
X-WR-CALDESC:Events for Fountain Blues Festival
REFRESH-INTERVAL;VALUE=DURATION:PT1H
X-Robots-Tag:noindex
X-PUBLISHED-TTL:PT1H
BEGIN:VTIMEZONE
TZID:America/Los_Angeles
BEGIN:DAYLIGHT
TZOFFSETFROM:-0800
TZOFFSETTO:-0700
TZNAME:PDT
DTSTART:20240310T100000
END:DAYLIGHT
BEGIN:STANDARD
TZOFFSETFROM:-0700
TZOFFSETTO:-0800
TZNAME:PST
DTSTART:20241103T090000
END:STANDARD
BEGIN:DAYLIGHT
TZOFFSETFROM:-0800
TZOFFSETTO:-0700
TZNAME:PDT
DTSTART:20250309T100000
END:DAYLIGHT
BEGIN:STANDARD
TZOFFSETFROM:-0700
TZOFFSETTO:-0800
TZNAME:PST
DTSTART:20251102T090000
END:STANDARD
BEGIN:DAYLIGHT
TZOFFSETFROM:-0800
TZOFFSETTO:-0700
TZNAME:PDT
DTSTART:20260308T100000
END:DAYLIGHT
BEGIN:STANDARD
TZOFFSETFROM:-0700
TZOFFSETTO:-0800
TZNAME:PST
DTSTART:20261101T090000
END:STANDARD
END:VTIMEZONE
BEGIN:VEVENT
DTSTART;TZID=America/Los_Angeles:20250425T200000
DTEND;TZID=America/Los_Angeles:20250425T200000
DTSTAMP:20260422T045806
CREATED:20250131T042818Z
LAST-MODIFIED:20250421T204201Z
UID:10000349-1745611200-1745611200@fountainblues.com
SUMMARY:San Jose Jazz & Fountain Blues Foundation Present: Feel Soul Good with Terrie Odabi
DESCRIPTION:Prepare to be captivated by the powerhouse vocals and soul-stirring presence of Terrie Odabi! One of the most dynamic blues and soul vocalists to emerge from the Bay Area\, Terrie brings a deeply moving and electrifying energy to the stage. This is a performance you don’t want to miss! \n\nAbout Terrie Odabi:\nOakland’s own Terrie Odabi is celebrated as “the most dynamic blues and soul woman to have emerged in the Bay Area since Etta James.” With a voice that commands attention and a stage presence that radiates passion\, Terrie delivers an unforgettable experience every time she performs. \nA Journey Through the Blues:\nBorn in Albany\, Georgia\, and raised in Oakland\, Terrie’s musical journey was shaped by classical and jazz training under renowned mentors such as opera singer Gwendoline Brown and pianist Dr. Bill Bell. She seamlessly blends blues with R&B\, neo-soul\, jazz\, and gospel\, creating a rich and emotionally charged sound that resonates with audiences worldwide. \nAccolades & Achievements: \n\nHer 2016 album My Blue Soul earned a Blues Music Award nomination for Best Emerging Artist Album\nMultiple Blues Music Award nominations for Soul Blues Female Artist\nHas performed alongside blues greats and thrilled audiences across the U.S. and internationally\nA vocal advocate for diversity and representation in blues music\n\nTerrie’s deep connection to the blues allows her to channel raw emotion and authenticity into every performance. Her ability to blend powerful storytelling with soul-drenched melodies makes her one of today’s most compelling blues artistsThe Vibe:\nExpect an evening of powerful vocals\, heartfelt storytelling\, and a rich fusion of blues\, soul\, and gospel. With deep grooves\, soaring melodies\, and an undeniable stage presence\, Terrie Odabi will take you on a musical journey that speaks to the soul.
URL:https://fountainblues.com/event/terrie-odabi/
LOCATION:SJZ Break Room\, 310 S. 1st St.\, San Jose\, CA\, 95113
CATEGORIES:SJZ Breakroom
ATTACH;FMTTYPE=image/jpeg:https://fountainblues.com/wp-content/uploads/2025/01/FBF-SJZ-Terrie-Odabi.jpg
ORGANIZER;CN="San Jose Jazz":MAILTO:info@sanjosejazz.org
END:VEVENT
END:VCALENDAR