BEGIN:VCALENDAR
VERSION:2.0
PRODID:-//Fountain Blues Festival - ECPv6.15.20//NONSGML v1.0//EN
CALSCALE:GREGORIAN
METHOD:PUBLISH
X-WR-CALNAME:Fountain Blues Festival
X-ORIGINAL-URL:https://fountainblues.com
X-WR-CALDESC:Events for Fountain Blues Festival
REFRESH-INTERVAL;VALUE=DURATION:PT1H
X-Robots-Tag:noindex
X-PUBLISHED-TTL:PT1H
BEGIN:VTIMEZONE
TZID:America/Los_Angeles
BEGIN:DAYLIGHT
TZOFFSETFROM:-0800
TZOFFSETTO:-0700
TZNAME:PDT
DTSTART:20240310T100000
END:DAYLIGHT
BEGIN:STANDARD
TZOFFSETFROM:-0700
TZOFFSETTO:-0800
TZNAME:PST
DTSTART:20241103T090000
END:STANDARD
BEGIN:DAYLIGHT
TZOFFSETFROM:-0800
TZOFFSETTO:-0700
TZNAME:PDT
DTSTART:20250309T100000
END:DAYLIGHT
BEGIN:STANDARD
TZOFFSETFROM:-0700
TZOFFSETTO:-0800
TZNAME:PST
DTSTART:20251102T090000
END:STANDARD
BEGIN:DAYLIGHT
TZOFFSETFROM:-0800
TZOFFSETTO:-0700
TZNAME:PDT
DTSTART:20260308T100000
END:DAYLIGHT
BEGIN:STANDARD
TZOFFSETFROM:-0700
TZOFFSETTO:-0800
TZNAME:PST
DTSTART:20261101T090000
END:STANDARD
END:VTIMEZONE
BEGIN:VEVENT
DTSTART;TZID=America/Los_Angeles:20250510T200000
DTEND;TZID=America/Los_Angeles:20250510T200000
DTSTAMP:20260422T012056
CREATED:20250131T044246Z
LAST-MODIFIED:20250131T044304Z
UID:10000350-1746907200-1746907200@fountainblues.com
SUMMARY:Legally Blue: Where Tradition Meets Innovation – A Soul-Stirring Blend of Classic and Contemporary Blues.
DESCRIPTION:Legally Blue is an electrifying blues band that stands out in the genre with its dynamic blend of traditional and contemporary influences. This ensemble is known for its deep-rooted blues authenticity and innovative arrangements\, making each performance a memorable experience. \nBand Members: \n\nCheryl Scales – Lead Vocals: Cheryl’s rich and soulful voice captures the raw emotion of the blues with every note. Her commanding stage presence and heartfelt delivery draw audiences in\, making her a force to be reckoned with.\nAart de Geus – Lead Guitar: Aart brings a mix of technical prowess and passionate improvisation. His fiery and intricate solos add intensity and excitement to the band’s sound\, seamlessly blending classic blues riffs with modern twists.\nPamela Arthur – Keys/B3 Organ\, Backing Vocals: Pamela adds a lush\, melodic texture to the band’s music. Her keyboard work ranges from smooth\, jazzy undertones to vibrant\, energetic solos\, complementing Cheryl’s vocals and enhancing the overall sound.\nMike West – Drums\, Vocals: Mike’s drumming is both solid and inventive\, driving the band’s groove with a mix of traditional rhythms and modern flair. His versatility allows him to switch seamlessly between percussive power and vocal support.\nJeff Moles – Bass: Jeff’s deep grooves and rhythmic precision anchor the band’s sound. His bass lines are both smooth and assertive\, providing a strong foundation while offering moments of melodic exploration.\n\nThe Vibe: \nLegally Blue crafts a unique sound that respects the blues’ roots while pushing its boundaries. Their performances are a vibrant showcase of musical talent and emotional depth\, promising an engaging experience for blues enthusiasts and newcomers alike.
URL:https://fountainblues.com/event/legally-blue-where-tradition-meets-innovation-a-soul-stirring-blend-of-classic-and-contemporary-blues/
LOCATION:SJZ Break Room\, 310 S. 1st St.\, San Jose\, CA\, 95113
CATEGORIES:SJZ Breakroom
ATTACH;FMTTYPE=image/jpeg:https://fountainblues.com/wp-content/uploads/2025/01/FBF-SJZ-Legally-BLue.jpg
ORGANIZER;CN="San Jose Jazz":MAILTO:info@sanjosejazz.org
END:VEVENT
BEGIN:VEVENT
DTSTART;TZID=America/Los_Angeles:20250510T210000
DTEND;TZID=America/Los_Angeles:20250510T210000
DTSTAMP:20260422T012056
CREATED:20250426T185513Z
LAST-MODIFIED:20250426T185513Z
UID:10003833-1746910800-1746910800@fountainblues.com
SUMMARY:Fuego Sports Bar & Club Blues Jam
DESCRIPTION:Feel the heat every Monday at Fuego Sports Bar & Club! The Fuego Blues Jam kicks off at 9PM and runs till 12am with fiery performances that keep the energy high and the dancefloor moving. \nFrom slick slide guitar to howling harp solos\, this night is all about bold sounds and good times. Musicians sign up on site\, and the crowd never holds back. If you love your blues with a side of adrenaline\, this is your weekly escape. \nThe music’s hot. The drinks are cold. The vibe? Totally lit. Only at Fuego.
URL:https://fountainblues.com/event/fuego-sports-bar-club-blues-jam/2025-05-10/
LOCATION:Fuego Sports Bar & Club\, 140 S Murphy Avenue\, Sunnyvale\, CA\, 94086
ATTACH;FMTTYPE=image/jpeg:https://fountainblues.com/wp-content/uploads/2025/04/Fuego-Sports-Bar-Club.jpg
END:VEVENT
END:VCALENDAR