BEGIN:VCALENDAR
VERSION:2.0
PRODID:-//Fountain Blues Festival - ECPv6.15.20//NONSGML v1.0//EN
CALSCALE:GREGORIAN
METHOD:PUBLISH
X-ORIGINAL-URL:https://fountainblues.com
X-WR-CALDESC:Events for Fountain Blues Festival
REFRESH-INTERVAL;VALUE=DURATION:PT1H
X-Robots-Tag:noindex
X-PUBLISHED-TTL:PT1H
BEGIN:VTIMEZONE
TZID:America/Los_Angeles
BEGIN:DAYLIGHT
TZOFFSETFROM:-0800
TZOFFSETTO:-0700
TZNAME:PDT
DTSTART:20240310T100000
END:DAYLIGHT
BEGIN:STANDARD
TZOFFSETFROM:-0700
TZOFFSETTO:-0800
TZNAME:PST
DTSTART:20241103T090000
END:STANDARD
BEGIN:DAYLIGHT
TZOFFSETFROM:-0800
TZOFFSETTO:-0700
TZNAME:PDT
DTSTART:20250309T100000
END:DAYLIGHT
BEGIN:STANDARD
TZOFFSETFROM:-0700
TZOFFSETTO:-0800
TZNAME:PST
DTSTART:20251102T090000
END:STANDARD
BEGIN:DAYLIGHT
TZOFFSETFROM:-0800
TZOFFSETTO:-0700
TZNAME:PDT
DTSTART:20260308T100000
END:DAYLIGHT
BEGIN:STANDARD
TZOFFSETFROM:-0700
TZOFFSETTO:-0800
TZNAME:PST
DTSTART:20261101T090000
END:STANDARD
END:VTIMEZONE
BEGIN:VEVENT
DTSTART;TZID=America/Los_Angeles:20250614T120000
DTEND;TZID=America/Los_Angeles:20250614T131500
DTSTAMP:20260421T223148
CREATED:20250406T191709Z
LAST-MODIFIED:20260331T224056Z
UID:10003236-1749902400-1749906900@fountainblues.com
SUMMARY:M’sippi Slide
DESCRIPTION:M’sippi Slide is a rhythm and blues powerhouse born out of a deep love for the timeless soul\nsounds of the 1950s and ’60s. Fronted by the magnetic Lijah—a vocalist whose voice evokes the\nlegendary power of Aretha Franklin\, Etta James\, and Marvin Gaye—the band brings a visceral\,\nemotionally rich sound to every performance. Lijah’s passion for music was sparked in her\nhometown of San Jose\, where her father’s record collection filled her childhood with the sounds\nof Motown and Southern soul. That early influence now fuels her dynamic performances\, which\nblend raw emotion with classic R&B grooves. \nSince forming in late 2022\, M’sippi Slide has built a loyal fanbase\, driven by the chemistry and\nmusicianship of its core members: guitarist Johnny Cat Soubrand\, bassist Frank DeRose\,\ndrummer Scotty Griffin\, and rhythm guitarist Ryan Ward. Johnny Cat and DeRose have played a\ncrucial role in helping Lijah refine her vocal presence and develop a powerful\, authentic sound\nrooted in the tradition of American soul. \nWith their heartfelt delivery\, high-octane stage presence\, and deep respect for the legacy of\nR&B\, M’sippi Slide doesn’t just perform music—they revive a feeling. Their shows are a\njourney through sound and soul\, inviting audiences to dance\, sway\, and feel every note.
URL:https://fountainblues.com/event/msippi-slide-2/
LOCATION:Plaza Park\, 1 Paseo de San Antonio\, San Jose\, CA\, 95113
ATTACH;FMTTYPE=image/jpeg:https://fountainblues.com/wp-content/uploads/2025/04/Msippi-Slide-111.jpg
END:VEVENT
BEGIN:VEVENT
DTSTART;TZID=America/Los_Angeles:20250614T140000
DTEND;TZID=America/Los_Angeles:20250614T153000
DTSTAMP:20260421T223148
CREATED:20250406T190605Z
LAST-MODIFIED:20260331T223940Z
UID:10003235-1749909600-1749915000@fountainblues.com
SUMMARY:Mike Zito
DESCRIPTION:Mike Zito is one of the most lauded artists in the contemporary blues arena today and rightfully so\, but for him\, the thing that counts the most is maintaining his honesty\, authenticity and integrity. Those are the qualities that have steered Zito’s career since the beginning and continue to define every effort he’s offered since. \n“I have nothing to hide; it seems my honesty is what people relate to most\,” he once told Vintage Guitar magazine. “Anders (Osborne) told me early on\, ‘If you don’t believe what you’re singing\, you’ll never be a good singer.’ I try not to write fluff; I try to make every word count.” \nNaturally\, patience and perseverance have been Zito’s stock and trade since the beginning. He began playing guitar at the age of five\, and by the time he reached his late teens\, he was already a fixture on the local St. Louis music scene. He initially released his music independently and then signed with Eclecto Groove Records in 2008. “Pearl River\,” the title track of his 2009 album for the label\, won Song of the Year at the Blues Music Awards and marked his first collaboration with Cyril Neville\, with whom he’d later work in the Royal Southern Brotherhood. A steady succession of critically acclaimed albums followed\, culminating in 2011’s Greyhound\, which was nominated for Best Rock Blues Album at that year’s Blue Music Awards ceremony in Memphis. Two years later\, he signed with Ruf Records and released Gone to Texas\, the story of how he gained his sobriety\, offered an emotional homage to the state that left an indelible imprint on his entire life. It also marked the debut of his band\, The Wheel. \nFrom 2010 to 2014\, Zito also played an integral role in the super group of sorts\, Royal Southern Brotherhood. The group released two albums and a DVD\, Songs from the Road – Live in Germany\, winner of the year’s Blues Music Award for Best DVD. He also made his mark behind the boards by producing albums for Samantha Fish\, Albert Castiglia\, Ally Venable\, Jeremiah Johnson\, Jimmy Carpenter\, and many others. \nMeanwhile\, the accolades kept coming. His album\, Make Blues Not War\, debuted on the Billboard Blues Album Chart at number one and garnered him recognition as the 2018 Rock Blues Artist of the Year at the Blues Music Awards. First Class Life followed suit\, also entering the charts at number one. Alternate Root magazine insisted that “The First Class Life that Mike Zito titles his upcoming album can be heard in the sweet sound of Blue Soul rising like heat waves from his guitar and his vocal.” American Blues Scene said\, “Mike Zito’s return to the blues is\, in a word\, triumphant!” No Depression declared\, “Once again\, Zito has delivered the goods\, a first class package with no postage due.” \nIn 2019\, Zito released a tribute album of fellow St. Louis native and rock ‘n’ roll legend\, Chuck Berry\, and featured an array of guest guitarists ranging from Joe Bonamassa\, Walter Trout and Eric Gales\, to Robben Ford\, Luther Dickinson and Sonny Landreth\, as well as Berry’s own grandson. Rock ’n Roll: A Tribute to Chuck Berry debuted on the Billboard Blues Album Chart at number 1 and remained on the chart for several weeks. Rock ’N Roll won the Blues Music Award for Blues Rock Album of the year and Mike also received the Blues Music Award for Blues Rock artist. \nAt about the same time\, Mike Zito partnered with Guy Hale to form the new record label Gulf Coast Records. Gulf Coast Records is based in Nederland\, TX with a focus on Regional Roots\, Blues and Americana genres. The mutual passion of the founders is to lift up artists and help them get their music out to the world. \nQuarantine Blues\, was recorded during the heart of the coronavirus pandemic and served as a healing love letter to his fans around the world that heralded better days ahead if we’d all just stick together. In 2021\, Mike released Resurrection on his record label Gulf Coast Records. The new disc was produced by the celebrated Grammy-winner David Z\, best known for his long-standing work with Prince\, and who has contributed to albums by Etta James\, Billy Idol\, BoDeans\, Buddy Guy and John Mayall\, among many others.  \n“I have songs in me and musical ideas all of the time\,” volunteers Mike Zito about the new album’s genesis. “I write what I can\, when I can and try to save it all for posterity. Some of the songs are just songs and they don’t always have meaning for me\, and some of them become very personal. For me to sing songs and feel them with real emotion\, they need to be somewhat personal. Even songs I did not write\, I need to feel they explain a part of my thinking or how I am feeling about love\, sex\, life\, death\, the world…. Resurrection is an album of feelings\, emotions\, and is very personal. The title track is how I once almost lost my love\, but it came back stronger than ever. I have had this song in me for years\, but it only makes sense now to share it with the world. After the year we have had on planet Earth\, I believe we all need a rebirth. This rebirth has given me an opportunity to be who I want to be musically and artistically.” \nResurrection was a critic and fan favorite and later won the Blues Music Award for the 2022 Blues Rock Album of the year.  \nIn 2022\, Zito released the double live album Blues for the Southside. Recorded on November 26\, 2021\, at the Old Rock House in St. Louis\, Missouri\, and produced by Mike Zito\, Blues for the Southside showcases Zito (guitar\, vocals) and his stellar band in full fury with special guests Tony Campanella\, Dave Kalz and guitar wizard Eric Gales. After the release of Blues for the Southside\, Zito joined forces with Gulf Coast Records label mate Albert Castiglia and created the Blood Brothers tour.
URL:https://fountainblues.com/event/mike-zito/
LOCATION:Plaza Park\, 1 Paseo de San Antonio\, San Jose\, CA\, 95113
ATTACH;FMTTYPE=image/jpeg:https://fountainblues.com/wp-content/uploads/2025/04/Mike_Zito111.jpg
END:VEVENT
BEGIN:VEVENT
DTSTART;TZID=America/Los_Angeles:20250614T161500
DTEND;TZID=America/Los_Angeles:20250614T174500
DTSTAMP:20260421T223148
CREATED:20250404T165648Z
LAST-MODIFIED:20260331T223621Z
UID:10002972-1749917700-1749923100@fountainblues.com
SUMMARY:Greaseland Allstars with Rj Mischo & Fillmore Slim
DESCRIPTION:Fountain Blues Festival Presents: Greaseland All Stars \nGet ready for an unforgettable celebration of the Blues as the Fountain Blues Festival welcomes Kid Andersen’s Greaseland All Stars — a powerhouse ensemble featuring Rick Estrin\, Alabama Mike\, Lisa Andersen\, and the dynamic rhythm section of Derrick D’MAR Martin and Lorenzo Farrell. \nFor over 15 years\, Greaseland Studios—founded by guitarist and producer Christoffer “Kid” Andersen and powerhouse vocalist Lisa Andersen—has been the heartbeat of the West Coast blues scene. With over 150 albums recorded and numerous Blues Music Awards to their credit\, the studio has become a magnet for legendary musicians from across the globe. \nNow\, the magic of Greaseland comes to life on stage in a thrilling revue-style performance. Kid Andersen\, widely celebrated for his fiery guitar work and masterful production skills\, leads the charge. By his side is his wife Lisa\, whose soulful vocals have graced countless recordings and captivated audiences worldwide. \nJoining them is Rick Estrin\, a harmonica virtuoso and charismatic frontman best known for his work with Little Charlie & The Nightcats and Rick Estrin & The Nightcats. With his sharp songwriting and deep Chicago blues roots\, Estrin brings both grit and humor to the show. \nAdding a dose of gospel-fired intensity is Alabama Mike\, a commanding vocalist and harmonica player whose energy and stage presence are unmatched. Drawing from his Southern roots and life experience\, Mike delivers blues that are as raw as they are uplifting. \nAnchoring the groove is Derrick D’MAR Martin\, former drummer for Little Richard\, whose explosive style and showmanship light up every stage he steps on. Holding down the keys and bass lines is the incredibly versatile Lorenzo Farrell\, known for his work with Nightcats and a host of blues icons. \nThis all-star lineup represents the spirit\, soul\, and power of modern blues at its finest. Whether you’re a longtime blues lover or a new fan\, this set will be a highlight of the festival—an electrifying\, soulful journey into the sound of Greaseland that’s not to be missed. \nJoin us at the Fountain Blues Festival for a once-in-a-lifetime experience with the Greaseland All Stars—where West Coast blues royalty meets raw\, musical magic.
URL:https://fountainblues.com/event/greaseland-allstars-with-rj-mischo-fillmore-slim/
LOCATION:Plaza Park\, 1 Paseo de San Antonio\, San Jose\, CA\, 95113
ATTACH;FMTTYPE=image/png:https://fountainblues.com/wp-content/uploads/2025/04/Kidanderson.png
END:VEVENT
BEGIN:VEVENT
DTSTART;TZID=America/Los_Angeles:20250614T210000
DTEND;TZID=America/Los_Angeles:20250614T210000
DTSTAMP:20260421T223148
CREATED:20250426T185513Z
LAST-MODIFIED:20250426T185513Z
UID:10003838-1749934800-1749934800@fountainblues.com
SUMMARY:Fuego Sports Bar & Club Blues Jam
DESCRIPTION:Feel the heat every Monday at Fuego Sports Bar & Club! The Fuego Blues Jam kicks off at 9PM and runs till 12am with fiery performances that keep the energy high and the dancefloor moving. \nFrom slick slide guitar to howling harp solos\, this night is all about bold sounds and good times. Musicians sign up on site\, and the crowd never holds back. If you love your blues with a side of adrenaline\, this is your weekly escape. \nThe music’s hot. The drinks are cold. The vibe? Totally lit. Only at Fuego.
URL:https://fountainblues.com/event/fuego-sports-bar-club-blues-jam/2025-06-14/
LOCATION:Fuego Sports Bar & Club\, 140 S Murphy Avenue\, Sunnyvale\, CA\, 94086
ATTACH;FMTTYPE=image/jpeg:https://fountainblues.com/wp-content/uploads/2025/04/Fuego-Sports-Bar-Club.jpg
END:VEVENT
END:VCALENDAR