BEGIN:VCALENDAR
VERSION:2.0
PRODID:-//Fountain Blues Festival - ECPv6.15.20//NONSGML v1.0//EN
CALSCALE:GREGORIAN
METHOD:PUBLISH
X-ORIGINAL-URL:https://fountainblues.com
X-WR-CALDESC:Events for Fountain Blues Festival
REFRESH-INTERVAL;VALUE=DURATION:PT1H
X-Robots-Tag:noindex
X-PUBLISHED-TTL:PT1H
BEGIN:VTIMEZONE
TZID:America/Los_Angeles
BEGIN:DAYLIGHT
TZOFFSETFROM:-0800
TZOFFSETTO:-0700
TZNAME:PDT
DTSTART:20250309T100000
END:DAYLIGHT
BEGIN:STANDARD
TZOFFSETFROM:-0700
TZOFFSETTO:-0800
TZNAME:PST
DTSTART:20251102T090000
END:STANDARD
BEGIN:DAYLIGHT
TZOFFSETFROM:-0800
TZOFFSETTO:-0700
TZNAME:PDT
DTSTART:20260308T100000
END:DAYLIGHT
BEGIN:STANDARD
TZOFFSETFROM:-0700
TZOFFSETTO:-0800
TZNAME:PST
DTSTART:20261101T090000
END:STANDARD
BEGIN:DAYLIGHT
TZOFFSETFROM:-0800
TZOFFSETTO:-0700
TZNAME:PDT
DTSTART:20270314T100000
END:DAYLIGHT
BEGIN:STANDARD
TZOFFSETFROM:-0700
TZOFFSETTO:-0800
TZNAME:PST
DTSTART:20271107T090000
END:STANDARD
END:VTIMEZONE
BEGIN:VEVENT
DTSTART;TZID=America/Los_Angeles:20260306T210000
DTEND;TZID=America/Los_Angeles:20260307T010000
DTSTAMP:20260419T081542
CREATED:20250402T052929Z
LAST-MODIFIED:20250422T014115Z
UID:10003250-1772830800-1772845200@fountainblues.com
SUMMARY:First Friday Rockin' n Blues Jam at Woodhams Lounge
DESCRIPTION:Get ready to plug in and let loose at the First Friday Rockin’ n Blues Jam\, happening every first Friday at one of the South Bay’s longest running blues jams—Woodhams Sports Lounge in Santa Clara. \nWoodhams isn’t your average bar—it’s a vintage-style dive with real soul. Think dim lighting\, worn-in bar stools\, pool tables in the back\, and the kind of jukebox that knows its way around a Muddy Waters riff. A favorite of local musicians and loyal regulars alike\, it’s the perfect home for a gritty\, good-time jam session. \nThis month’s featured players: \n\nAaron Madsen – Vocals & Guitar\nSteve Scarpelli – Drums\nJam Master Bob Gonzalez – Bass & Vocals\n\nSign-ups open at 8:30 PM\, so bring your axe\, your sticks\, or your pipes—and join the lineup. The music kicks off at 9 PM\, and the energy goes all night.
URL:https://fountainblues.com/event/first-friday-rockin-n-blues-jam-at-woodhams-lounge/2026-03-06/
LOCATION:Woodhams Sports Lounge\, 4475 Stevens Creek Blvd.\, Santa Clara\, CA\, 95051
ATTACH;FMTTYPE=image/jpeg:https://fountainblues.com/wp-content/uploads/2025/03/Woodhams.jpg
END:VEVENT
END:VCALENDAR