BEGIN:VCALENDAR
VERSION:2.0
PRODID:-//Fountain Blues Festival - ECPv6.15.20//NONSGML v1.0//EN
CALSCALE:GREGORIAN
METHOD:PUBLISH
X-ORIGINAL-URL:https://fountainblues.com
X-WR-CALDESC:Events for Fountain Blues Festival
REFRESH-INTERVAL;VALUE=DURATION:PT1H
X-Robots-Tag:noindex
X-PUBLISHED-TTL:PT1H
BEGIN:VTIMEZONE
TZID:America/Los_Angeles
BEGIN:DAYLIGHT
TZOFFSETFROM:-0800
TZOFFSETTO:-0700
TZNAME:PDT
DTSTART:20250309T100000
END:DAYLIGHT
BEGIN:STANDARD
TZOFFSETFROM:-0700
TZOFFSETTO:-0800
TZNAME:PST
DTSTART:20251102T090000
END:STANDARD
BEGIN:DAYLIGHT
TZOFFSETFROM:-0800
TZOFFSETTO:-0700
TZNAME:PDT
DTSTART:20260308T100000
END:DAYLIGHT
BEGIN:STANDARD
TZOFFSETFROM:-0700
TZOFFSETTO:-0800
TZNAME:PST
DTSTART:20261101T090000
END:STANDARD
BEGIN:DAYLIGHT
TZOFFSETFROM:-0800
TZOFFSETTO:-0700
TZNAME:PDT
DTSTART:20270314T100000
END:DAYLIGHT
BEGIN:STANDARD
TZOFFSETFROM:-0700
TZOFFSETTO:-0800
TZNAME:PST
DTSTART:20271107T090000
END:STANDARD
END:VTIMEZONE
BEGIN:VEVENT
DTSTART;TZID=America/Los_Angeles:20260512T190000
DTEND;TZID=America/Los_Angeles:20260512T230000
DTSTAMP:20260419T082101
CREATED:20250426T211128Z
LAST-MODIFIED:20250426T211128Z
UID:10004466-1778612400-1778626800@fountainblues.com
SUMMARY:Blue Note Lounge Blues Jam
DESCRIPTION:Milpitas may be mellow\, but the Blue Note Lounge cranks up the soul every Tuesday from 7pm-11pm with the Milpitas Blues Jam. It’s unfiltered\, gritty\, and packed with local talent. \nWith a no-frills bar vibe\, cheap drinks\, and a crew that knows their chops\, this jam is the real deal. Bring your gear\, call a tune\, and get down to business—or pull up a barstool and let the room do the talking. \nNo glitz. Just blues. And that’s exactly how we like it.
URL:https://fountainblues.com/event/blue-note-lounge-blues-jam/2026-05-12/
LOCATION:The Blue Note Lounge\, 765 E Capitol Avenue\, Milpitas\, CA\, 95035
ATTACH;FMTTYPE=image/jpeg:https://fountainblues.com/wp-content/uploads/2025/04/Blue-Note-Lounge.jpg
END:VEVENT
BEGIN:VEVENT
DTSTART;TZID=America/Los_Angeles:20260512T193000
DTEND;TZID=America/Los_Angeles:20260512T230000
DTSTAMP:20260419T082101
CREATED:20250404T204829Z
LAST-MODIFIED:20250422T014333Z
UID:10003030-1778614200-1778626800@fountainblues.com
SUMMARY:Gardino’s Tuesday's Blues Jam
DESCRIPTION:Join us every Tuesday and Wednesday night at Gardino’s Restaurant & Bar for Blues Jam & Open Mic Night from 7:30 to 11PM. It’s a laid-back midweek hang where local musicians show up\, plug in\, and keep the blues alive with raw\, unscripted sets. \nWhether you’re a seasoned player ready to hit the stage or just here for the tunes\, it’s a great night out with zero pretense—just solid music\, cold drinks\, and good people. \nGrab a plate of our house made Italian comfort food\, order a drink from the bar\, and settle in for an evening of real live music. Everyone’s welcome\, and musicians of all levels can sign up to play when they arrive. \nBlues Jam & Open Mic Night at Gardino’s—come to listen\, come to play.
URL:https://fountainblues.com/event/gardinos-blues-jam-open-mic-night-3/2026-05-12/
LOCATION:Gardino’s Restaurant & Bar\, 51 N Santa Cruz Ave\, Los Gatos\, CA\, 95032
CATEGORIES:Gardinos
ATTACH;FMTTYPE=image/jpeg:https://fountainblues.com/wp-content/uploads/2025/04/Gardinos-Blues-Jam-2.jpg
END:VEVENT
END:VCALENDAR