BEGIN:VCALENDAR
VERSION:2.0
PRODID:-//Fountain Blues Festival - ECPv6.15.20//NONSGML v1.0//EN
CALSCALE:GREGORIAN
METHOD:PUBLISH
X-ORIGINAL-URL:https://fountainblues.com
X-WR-CALDESC:Events for Fountain Blues Festival
REFRESH-INTERVAL;VALUE=DURATION:PT1H
X-Robots-Tag:noindex
X-PUBLISHED-TTL:PT1H
BEGIN:VTIMEZONE
TZID:America/Los_Angeles
BEGIN:DAYLIGHT
TZOFFSETFROM:-0800
TZOFFSETTO:-0700
TZNAME:PDT
DTSTART:20230312T100000
END:DAYLIGHT
BEGIN:STANDARD
TZOFFSETFROM:-0700
TZOFFSETTO:-0800
TZNAME:PST
DTSTART:20231105T090000
END:STANDARD
BEGIN:DAYLIGHT
TZOFFSETFROM:-0800
TZOFFSETTO:-0700
TZNAME:PDT
DTSTART:20240310T100000
END:DAYLIGHT
BEGIN:STANDARD
TZOFFSETFROM:-0700
TZOFFSETTO:-0800
TZNAME:PST
DTSTART:20241103T090000
END:STANDARD
BEGIN:DAYLIGHT
TZOFFSETFROM:-0800
TZOFFSETTO:-0700
TZNAME:PDT
DTSTART:20250309T100000
END:DAYLIGHT
BEGIN:STANDARD
TZOFFSETFROM:-0700
TZOFFSETTO:-0800
TZNAME:PST
DTSTART:20251102T090000
END:STANDARD
END:VTIMEZONE
BEGIN:VEVENT
DTSTART;TZID=America/Los_Angeles:20240615T183000
DTEND;TZID=America/Los_Angeles:20240615T200000
DTSTAMP:20260420T011408
CREATED:20240319T194128Z
LAST-MODIFIED:20240520T235314Z
UID:10000332-1718476200-1718481600@fountainblues.com
SUMMARY:Delgado Brothers with Special Guest Chris Cain
DESCRIPTION:Propelled by their 2016 International Blues Competition win in Memphis\, Tennessee\, driven by fierce independence\, unified by family and fortified by the brotherhood of music\, the Delgado Brothers deliver the musical goods; topical anthem-worthy songs complemented by call-to-action lyrics\, soul stirring blues rock guitar solos and Latin-flavored percussion. \nThe Delgado Brothers—eldest brother Bob Delgado on bass\, middle brother Joey on guitar and vocals\, younger brother Steve on drums and vocals\, David “B” Kelley on Hammond B3 and Victor Bisetti on congas and timbales—have longtime been referred to as Los Angeles’ best kept secret. \n \nEach member of the band brings a unique style of musicianship to the Delgado Brothers brand. Indiana-bred Kelley came West in search of “groove and diversity.” An incredibly gifted musician\, David’s playing on his vintage 1972 Hammond B3 adds tone\, texture and depth to the sound. High-energy percussionist Victor Bisetti\, with his ebullient beats and Latin conga rhythms\, packs each song with vitality and panache. To witness a Delgado Brothers live performance is to testify to the synergy\, emotion\, work ethic and true musicianship of the band. \nThe band’s fifth studio album\, Two Trains\, contains 11 originals that Blues Blast Magazine call “…smartly crafted songs of love\, social awareness and tolerance\, all sung with deep emotional commitment…” They veer into a realm reminiscent of the classic rock of the Doobie Brothers and The Eagles while remaining true to the blues. \nChris Cain\nChris Cain offers up a soulful stew of Memphis style electric blues. His powerfully deep vocals and jazz inspired\, blues guitar riffs are unforgettable; uniquely his own\, while reminiscent of the legendary BB King and Albert King.\n\n \nCain recalls\, “I remember when I was a kid\, my dad would be mowing the lawn with the stereo blasting Muddy Waters. When I look back\, that was pretty cool! There was always music playing at our house\, Ray Charles\, B.B. King\, Freddie King\, Albert King\, all the greats.” \nAt the age of eight\, Cain taught himself to play guitar and began playing professionally before he was eighteen. Chris studied music at San Jose City College and was soon teaching jazz improvisation on campus. Over the next twenty years\, Cain would also master piano\, bass guitar\, clarinet\, alto and tenor saxophone. The combination of his blues upbringing and his jazz studies melded to form the searing guitar style that sets Chris Cain apart and has moved him to the top ranks of the blues music scene. \nFestival Tickets\nAdvance Ticket Prices: General Admission $25 VIP $85\nDay of: General Admission $30 VIP $100 \n\n\n\n\n\nEarly Bird 2 Pack – General Admission: $40. Limited supply. So act quickly!\n\n\n\n\n\nVIP tickets provide a seat in a shaded section located near the stage\, along with exclusive access to a private bar and flushable toilets. Additionally\, the package comes with two drink vouchers and a commemorative 41st San Jose Fountain Blues & Brews Festival t-shirt. \nDrink Tickets\n\nSave $2 on a 10-drink ticket package: $18 in advance\, $20 day of.\n\n \n\n\n\n\n41st San Jose Fountain Blues & Blues Festival\n\n\n\n\n\nThe 41st San Jose Fountain Blues & Brews Festival returns to downtown San Jose’s Plaza de Cesar Chavez\, Saturday\, June 15th from 11:00 a.m. to 8:00 p.m.\, featuring non-stop\, award-winning national and regional talent – alternating for nine hours on two stages.  In addition to world-class blues\, gospel\, jazz\, swing\, soul\, R&B\, Zydeco and rock bands\, the longest running blues festival in Northern California never disappoints with a village-like atmosphere – featuring artist vendor booths; family-friendly lawn games near the beloved Plaza de Cesar Chavez fountain; a craft beer garden to sample of the best in regional craft beers; plus\, local ciders\, wine\, and Southern-focused cuisine. \nSan Jose Fountain Blues & Brews Festival\, supported in part by a Cultural Affairs grant from the City of San José and produced by The Fountain Blues Foundation. \nThis year’s festival boasts main stage packed talent guaranteed to keep the groove going for an expected attendance of 2\,500 people:  Terrie Odabi\, John Nemeth\, Jon Cleary & The Absolute Monster Gentlemen\, and Delgado Brothers with special guest Chris Cain Band. \nPlus\, four acts on the Poor House Bistro Stage: Jefe Meduri Famiglia Band\, Follow the Music Rising Star\, M’Sippi Slide\, and Anthony Arya Band. \nIn addition to world-class blues\, gospel\, soul\, R&B and rock music\, there will be over 20 varieties of regional craft beers\, ciders\, and wine\, plus the best in local barbecue\, New Orleans and other southern-style foods\, an artist vendor zone\, and interactive family-friendly activities area. \nA partial list of featured breweries\n21st Amendment • Altamont • Anderson Valley • Barebottle • Drakes • Farmers • Full Circle • Henhouse • Lost Coast • Narrative Fermentations • North Coast • Sonoma Springs • Speakeasy • Stone \n \n  \n  \n  \n  \n  \n  \n\n\n\n\nFountain Blues Foundation\n\n\n\n\n\nThe Fountain Blues Foundation\, a 501(c)(3) non-profit organization\, is organized to preserve and promote the indigenous American music known as the blues\, and related genres like rock ‘n’ roll and R&B. Activities take a variety of forms\, including live performances\, broadcasts\, lectures\, and community education\, culminating in the longest-running blues festival in Northern California: the San Jose Fountain Blues & Brews Festival and live music events throughout the year. \n \nNew This Year: Follow the Music\nWe are thrilled to announce an exciting collaboration between Fountain Blues Foundation and Follow the Music\, a pioneering music education and emerging artists program. Follow the Music\, spearheaded by a passionate group who recognize the profound impact of music\, boasts honorary guests such as 49er legend and NFL Hall-of-Famer Ronnie Lott\, alongside Oakland music icon and Elevate Oakland co-founder Sheila E. \n \n  \n  \n  \n  \n  \n\n\n\n  \n  \nThis innovative program\, developed in partnership with Elevate Oakland and key stakeholders in arts\, entertainment\, media\, and sports\, serves as the gateway into the vibrant South Bay community. By joining forces with Follow the Music\, Fountain Blues Foundation aims to enrich the lives of young people by bringing the transformative power of music directly into their lives. Together\, we envision a future where music becomes a catalyst for inspiration\, creativity\, and community engagement\, and we invite you to be a part of this impactful journey.
URL:https://fountainblues.com/event/delagado-brothers-with-special-guest-chris-cain/
LOCATION:Plaza Park\, 1 Paseo de San Antonio\, San Jose\, CA\, 95113
CATEGORIES:Festival,Plaza de Cesar Chavez
ATTACH;FMTTYPE=image/jpeg:https://fountainblues.com/wp-content/uploads/2024/03/Delgado-Chris-Cain.jpg
ORGANIZER;CN="Fountain Blues Foundation":MAILTO:info@fountainblues.com
END:VEVENT
BEGIN:VEVENT
DTSTART;TZID=America/Los_Angeles:20240615T161500
DTEND;TZID=America/Los_Angeles:20240615T174500
DTSTAMP:20260420T011408
CREATED:20240319T195131Z
LAST-MODIFIED:20240510T220329Z
UID:10000331-1718468100-1718473500@fountainblues.com
SUMMARY:Jon Cleary & The Absolute Monster Gentlemen
DESCRIPTION:Jon Cleary\, a London-born musician\, defies expectations as a New Orleans piano maestro. A multi-instrumentalist\, singer\, and songwriter\, Cleary’s musical journey began at the tender age of 5 with the guitar. By 16\, he co-founded ‘Delta Wing’ with blues guitarist Roger Hubbard\, earning praise from blues icon Muddy Waters. \n \nFascinated by funk-infused tunes\, Cleary delved into the works of Allen Toussaint\, a journey that led him to New Orleans. There\, he immersed himself in the city’s rich musical heritage\, honing his piano skills at the legendary Maple Leaf Bar. \nCleary’s mastery of the New Orleans sound earned him spots as a session musician for local legends like Earl King and Dr. John. His 1989 debut album\, “Alligator Lips & Dirty Rice\,” marked the beginning of a remarkable career\, showcasing his blend of R&B\, soul\, and blues. \nCollaborations with icons like Keith Richards and Bonnie Raitt further solidified Cleary’s reputation as a musical powerhouse. In 2016\, his album “Go Go Juice” earned him a GRAMMY award\, a testament to his enduring talent. \nDespite global acclaim\, Cleary remains rooted in New Orleans\, captivating audiences with his soulful performances. Join him on his musical journey through his website and social media channels for updates. \nFestival Tickets\nAdvance Ticket Prices: General Admission $25 VIP $85\nDay of: General Admission $30 VIP $100 \n\n\n\n\n\nEarly Bird 2 Pack – General Admission: $40. Limited supply. So act quickly!\n\n\n\n\n\nVIP tickets provide a seat in a shaded section located near the stage\, along with exclusive access to a private bar and flushable toilets. Additionally\, the package comes with two drink vouchers and a commemorative 41st San Jose Fountain Blues & Brews Festival t-shirt. \nDrink Tickets\n\nSave $2 on a 10-drink ticket package: $18 in advance\, $20 day of.
URL:https://fountainblues.com/event/john-cleary-the-absolute-monster-gentlemen/
LOCATION:Plaza Park\, 1 Paseo de San Antonio\, San Jose\, CA\, 95113
CATEGORIES:Festival,Plaza de Cesar Chavez
ATTACH;FMTTYPE=image/jpeg:https://fountainblues.com/wp-content/uploads/2024/03/jon-cleary-and-the-absolute-monster-gentlemen-1480x832-1.jpeg
ORGANIZER;CN="Fountain Blues Foundation":MAILTO:info@fountainblues.com
END:VEVENT
BEGIN:VEVENT
DTSTART;TZID=America/Los_Angeles:20240615T140000
DTEND;TZID=America/Los_Angeles:20240615T153000
DTSTAMP:20260420T011408
CREATED:20240327T170436Z
LAST-MODIFIED:20240511T001801Z
UID:10000330-1718460000-1718465400@fountainblues.com
SUMMARY:John Németh & The Blues Dreamers
DESCRIPTION:John Németh‘s musical journey began in the muddy potato fields of Idaho in the early ’90s\, where he initially found solace in the hard-edged sounds of hip-hop and rock. However\, a pivotal moment occurred when a friend introduced him to the classic blues album “Hoodoo Man Blues” by Junior Wells and Buddy Guy\, igniting his passion for the genre. From then on\, Németh immersed himself in the local music scene\, honing his skills on the harmonica and vocals while opening for nationally touring blues acts. \n \nIn 2004\, Németh made the move to San Francisco\, where he had the opportunity to fill in for the ailing Sam Myers in Anson Funderburgh and the Rockets. This experience exposed him to the soulful sounds of the Bay Area\, shaping his musical style with what he terms “the early East Bay Grease sound.” \nUnder the Blind Pig label\, Németh released two acclaimed albums\, “Love Me Tonight” (2009) and “Name The Day” (2010)\, both of which reached #6 on the Billboard Blues Chart. These successes marked the beginning of his impressive string of Blues Music Award nominations\, totaling 20 to date. Additionally\, he secured two Blues Blast Music Awards for Best New Artist Debut Recording and the Sean Costello Rising Star Award. Independent releases followed in 2012 with “Blues Live” and “Soul Live.” \nIn 2013\, Németh relocated to Memphis\, where he delved into the soulful roots of the city\, resulting in the album “Memphis Grease” (2014 Blue Corn)\, a homage to soul classics that debuted at #4 on the Billboard Blues Chart. His efforts earned him the 2014 BMA for Best Soul Blues Male Artist\, and his album won Best Soul Blues Album in 2015. \nBreaking barriers of style and genre\, Németh released “Feelin’ Freaky” in 2017 on his own Memphis Grease label\, showcasing original songs that drew from a diverse range of influences. Returning to Electraphonic in 2019 with his band The Blue Dreamers\, he delivered “Stronger Than Strong\,” his 10th album\, seamlessly blending retro and modern blues and soul. \nFestival Tickets\nAdvance Ticket Prices: General Admission $25 VIP $85\nDay of: General Admission $30 VIP $100 \n\n\n\n\n\nEarly Bird 2 Pack – General Admission: $40. Limited supply. So act quickly!\n\n\n\n\n\nVIP tickets provide a seat in a shaded section located near the stage\, along with exclusive access to a private bar and flushable toilets. Additionally\, the package comes with two drink vouchers and a commemorative 41st San Jose Fountain Blues & Brews Festival t-shirt. \nDrink Tickets\n\nSave $2 on a 10-drink ticket package: $18 in advance\, $20 day of.
URL:https://fountainblues.com/event/john-nemeth/
LOCATION:Plaza Park\, 1 Paseo de San Antonio\, San Jose\, CA\, 95113
CATEGORIES:Festival,Plaza de Cesar Chavez
ATTACH;FMTTYPE=image/jpeg:https://fountainblues.com/wp-content/uploads/2024/03/john-nemeth-flag.jpeg
END:VEVENT
BEGIN:VEVENT
DTSTART;TZID=America/Los_Angeles:20240615T120000
DTEND;TZID=America/Los_Angeles:20240615T131500
DTSTAMP:20260420T011408
CREATED:20240319T214423Z
LAST-MODIFIED:20240405T011322Z
UID:10000329-1718452800-1718457300@fountainblues.com
SUMMARY:Terrie Odabi
DESCRIPTION:It has been proclaimed that Terrie Odabi is nothing short of West Coast Blues Royalty. It has been written that she is “easily the most dynamic blues and soul woman to have emerged in the Bay Area since Etta James came out of San Francisco’s Fillmore District in the ’50s.” Only a singer with Odabi’s combination of power and finesse could hold her own amid those kinds of comparisons. What sets Odabi apart from so many of her peers are the different shades of hurt\, longing\, bliss\, and depth she brings to the music. The distinguishable character of her voice rings out with a rousing revival of faith and reverence that has a drenching rejuvenation and sacred renascence complexity. Her abundant soul and improvisational prowess has made her a crucial contributor to today’s Blues scene. Warmly embraced by Blues fans and peers alike\, Terrie Odabi is one of the most respected talents in the Blues genre. \n \n“Terrie Odabi is easily the most dynamic blues and soul woman to have emerged in the Bay Area since Etta James came out of San Francisco’s Fillmore District in the Fifties. Terrie has a powerful set of pipes\, writes terrific tunes\, leads a kicking band and has onstage movements that perfectly match the rhythms of her material. Surely stardom awaits her.” Lee Hildebrand\, contributor to the *San Francisco Chronicle. \nFestival Tickets\nAdvance Ticket Prices: General Admission $25 VIP $85\nDay of: General Admission $30 VIP $100 \n\n\n\n\n\nEarly Bird 2 Pack – General Admission: $40. Limited supply. So act quickly!\n\n\n\n\n\nVIP tickets provide a seat in a shaded section located near the stage\, along with exclusive access to a private bar and flushable toilets. Additionally\, the package comes with two drink vouchers and a commemorative 41st San Jose Fountain Blues & Brews Festival t-shirt. \nDrink Tickets\n\nSave $2 on a 10-drink ticket package: $18 in advance\, $20 day of.
URL:https://fountainblues.com/event/terrie-odabi-41tst-san-jose-fountain-blues-brews-festival/
LOCATION:Plaza Park\, 1 Paseo de San Antonio\, San Jose\, CA\, 95113
CATEGORIES:Festival,Plaza de Cesar Chavez
ATTACH;FMTTYPE=image/jpeg:https://fountainblues.com/wp-content/uploads/2024/02/Terrie-Odabi.jpg
ORGANIZER;CN="Fountain Blues Foundation":MAILTO:info@fountainblues.com
END:VEVENT
END:VCALENDAR