BEGIN:VCALENDAR
VERSION:2.0
PRODID:-//Fountain Blues Festival - ECPv6.15.20//NONSGML v1.0//EN
CALSCALE:GREGORIAN
METHOD:PUBLISH
X-WR-CALNAME:Fountain Blues Festival
X-ORIGINAL-URL:https://fountainblues.com
X-WR-CALDESC:Events for Fountain Blues Festival
REFRESH-INTERVAL;VALUE=DURATION:PT1H
X-Robots-Tag:noindex
X-PUBLISHED-TTL:PT1H
BEGIN:VTIMEZONE
TZID:America/Los_Angeles
BEGIN:DAYLIGHT
TZOFFSETFROM:-0800
TZOFFSETTO:-0700
TZNAME:PDT
DTSTART:20210314T100000
END:DAYLIGHT
BEGIN:STANDARD
TZOFFSETFROM:-0700
TZOFFSETTO:-0800
TZNAME:PST
DTSTART:20211107T090000
END:STANDARD
BEGIN:DAYLIGHT
TZOFFSETFROM:-0800
TZOFFSETTO:-0700
TZNAME:PDT
DTSTART:20220313T100000
END:DAYLIGHT
BEGIN:STANDARD
TZOFFSETFROM:-0700
TZOFFSETTO:-0800
TZNAME:PST
DTSTART:20221106T090000
END:STANDARD
BEGIN:DAYLIGHT
TZOFFSETFROM:-0800
TZOFFSETTO:-0700
TZNAME:PDT
DTSTART:20230312T100000
END:DAYLIGHT
BEGIN:STANDARD
TZOFFSETFROM:-0700
TZOFFSETTO:-0800
TZNAME:PST
DTSTART:20231105T090000
END:STANDARD
END:VTIMEZONE
BEGIN:VEVENT
DTSTART;TZID=America/Los_Angeles:20220226T190000
DTEND;TZID=America/Los_Angeles:20220226T210000
DTSTAMP:20260420T045408
CREATED:20220219T193559Z
LAST-MODIFIED:20220220T003644Z
UID:10000023-1645902000-1645909200@fountainblues.com
SUMMARY:Girls Got the Blues 2022
DESCRIPTION:The Fountain Blues Foundation is pleased to invite you to join us for “Girls Got the Blues 2022”\, in person or virtually. \nGirls Got the Blues is raising funds for Next Door Solutions to Domestic Violence –  the only stand-alone\, domestic violence agency in Santa Clara County\, answering approximately 15\,000 crisis calls and serving an average of 3\,000 survivors of domestic violence annually. Their comprehensive\, compassionate\, bilingual services are available free of charge to all women\, men\, LGBTQ and individuals across the gender spectrum and of varying abilities. \n \nThe concert will be broadcast via live stream on February 26th at 7 PM.\nYou can join us is person at the Barebottle Brewing Company on via live streamed on Facebook and YouTube. \nDon’t forget to purchase your Raffle Tickets for some excellent prizes! \nFIRST 10 DONATIONS will Receive Lara Price’s Autographed CD I Mean Business \nA Donation to View the Concert via Live Stream is greatly appreciated. \nAll proceeds support Next Door Solutions to Domestic Violence. \n2022 Girls Got the Blues Artists:\n\nGaye Adegbalola/ Virginia\nLisa Man/ Oregon\nJeni Grouws/ Iowa\nEliza Neal/ New Jersey\nPam Hawkins/ Las Vegas\nLara Price\n\nAlso: Ariane Cap\, Wolf Wein\, Janice Maxie Reid\, Robin Roth\, Dolly Rappaport and The Sweet Nectar: Sue McCracklin & Maureen Smith
URL:https://fountainblues.com/event/girls-got-the-blues-2022/
LOCATION:Barebottle Brewing Company\, 2520 Augustine Drive\, Santa Clara\, 95054\, United States
ATTACH;FMTTYPE=image/jpeg:https://fountainblues.com/wp-content/uploads/2022/02/Girls-Got-the-Blues-2022.jpeg
END:VEVENT
END:VCALENDAR